BEGIN:VCALENDAR
VERSION:2.0
PRODID:-//Marin City Clinic - ECPv6.6.4.2//NONSGML v1.0//EN
CALSCALE:GREGORIAN
METHOD:PUBLISH
X-WR-CALNAME:Marin City Clinic
X-ORIGINAL-URL:https://marincityclinic.org
X-WR-CALDESC:Events for Marin City Clinic
REFRESH-INTERVAL;VALUE=DURATION:PT1H
X-Robots-Tag:noindex
X-PUBLISHED-TTL:PT1H
BEGIN:VTIMEZONE
TZID:America/Los_Angeles
BEGIN:DAYLIGHT
TZOFFSETFROM:-0800
TZOFFSETTO:-0700
TZNAME:PDT
DTSTART:20160313T100000
END:DAYLIGHT
BEGIN:STANDARD
TZOFFSETFROM:-0700
TZOFFSETTO:-0800
TZNAME:PST
DTSTART:20161106T090000
END:STANDARD
BEGIN:DAYLIGHT
TZOFFSETFROM:-0800
TZOFFSETTO:-0700
TZNAME:PDT
DTSTART:20170312T100000
END:DAYLIGHT
BEGIN:STANDARD
TZOFFSETFROM:-0700
TZOFFSETTO:-0800
TZNAME:PST
DTSTART:20171105T090000
END:STANDARD
END:VTIMEZONE
BEGIN:VEVENT
DTSTART;TZID=America/Los_Angeles:20170715T130000
DTEND;TZID=America/Los_Angeles:20170715T140000
DTSTAMP:20260425T175220
CREATED:20170614T184432Z
LAST-MODIFIED:20170614T184432Z
UID:4873-1500123600-1500127200@marincityclinic.org
SUMMARY:Women's Group (Marin City)
DESCRIPTION:Roses of Sharing Women’s Group Come share all the different colors of roses\, representing life’s different colors. We are each a phenomenal woman. At times we all need each other’s support\, love and the chance to share concerns and life’s challenges openly and without judgement. When Every 3rd Thursday of the month from 1:00pm – 2:00pm\, or until we feel empowered and have started the process of healing. Where Marin City Health and Wellness Center at 630 Drake Avenue\, Marin City\, CA 94165. Who Call (415) 339-8813 for more information and ask for Marlenea. Or click here to email Marlenea directly. What Event is free and open to all on a drop-in basis. Refreshments and treats will be provided. \nContinue reading
URL:https://marincityclinic.org/event/womens-group-marin-city-2017-07-15/
LOCATION:Marin City Health & Wellness Center\, 630 Drake Avenue\, Marin City\, CA\, 94965\, United States
CATEGORIES:Free,Marin,Support group
ATTACH;FMTTYPE=image/png:https://marincityclinic.org/wp-content/uploads/2017/03/roses.png
ORGANIZER;CN="Marin City Health & Wellness Center":MAILTO:info@marincityclinic.hyperarts.com
END:VEVENT
BEGIN:VEVENT
DTSTART;TZID=America/Los_Angeles:20170615T130000
DTEND;TZID=America/Los_Angeles:20170615T140000
DTSTAMP:20260425T175220
CREATED:20170614T184432Z
LAST-MODIFIED:20170724T191238Z
UID:4190-1497531600-1497535200@marincityclinic.org
SUMMARY:Women's Group (Marin City)
DESCRIPTION:Roses of Sharing Women’s Group Come share all the different colors of roses\, representing life’s different colors. We are each a phenomenal woman. At times we all need each other’s support\, love and the chance to share concerns and life’s challenges openly and without judgement. When Every 3rd Thursday of the month from 1:00pm – 2:00pm\, or until we feel empowered and have started the process of healing. Where Marin City Health and Wellness Center at 630 Drake Avenue\, Marin City\, CA 94165. Who Call (415) 339-8813 for more information and ask for Marlenea. Or click here to email Marlenea directly. What Event is free and open to all on a drop-in basis. Refreshments and treats will be provided. \nContinue reading
URL:https://marincityclinic.org/event/womens-group-marin-city/
LOCATION:Marin City Health & Wellness Center\, 630 Drake Avenue\, Marin City\, CA\, 94965\, United States
CATEGORIES:Free,Marin,Support group
ATTACH;FMTTYPE=image/png:https://marincityclinic.org/wp-content/uploads/2017/03/roses.png
ORGANIZER;CN="Marin City Health & Wellness Center":MAILTO:info@marincityclinic.hyperarts.com
END:VEVENT
BEGIN:VEVENT
DTSTART;TZID=America/Los_Angeles:20170131T100000
DTEND;TZID=America/Los_Angeles:20170131T113000
DTSTAMP:20260425T175220
CREATED:20161223T051254Z
LAST-MODIFIED:20161228T070536Z
UID:887-1485856800-1485862200@marincityclinic.org
SUMMARY:Support Group: Substance Use & Life Issues
DESCRIPTION:Please join us\, whether you are a person affected by substance use or a loved one’s addiction\, you are welcome! All sessions are FREE – feel free to drop in for any one of our group discussions. Relapse Prevention Cycles of Addiction Family Use Cycles Feelings & Emotions Spiritual Beliefs Thinking for Change Belief Systems Conflict Resolution Harm Reduction Effects of Use Freedom Life Skills \nContinue reading
URL:https://marincityclinic.org/event/support-group-substance-use-life-issues-2017-01-31/
LOCATION:CSD Conference Room\, 630 Drake Avenue\, Marin City\, CA\, 94965\, United States
CATEGORIES:Free,Marin,Support group
ATTACH;FMTTYPE=image/jpeg:https://marincityclinic.org/wp-content/uploads/2016/12/MAT-12-wk-class.jpg
ORGANIZER;CN="Marin City Health & Wellness Center":MAILTO:info@marincityclinic.hyperarts.com
END:VEVENT
BEGIN:VEVENT
DTSTART;TZID=America/Los_Angeles:20170126T100000
DTEND;TZID=America/Los_Angeles:20170126T113000
DTSTAMP:20260425T175220
CREATED:20161223T051514Z
LAST-MODIFIED:20161223T051514Z
UID:928-1485424800-1485430200@marincityclinic.org
SUMMARY:Support Group: Substance Use & Life Issues
DESCRIPTION:Please join us\, whether you are a person affected by substance use or a loved one’s addiction\, you are welcome! All sessions are FREE – feel free to drop in for any one of our group discussions. Relapse Prevention Cycles of Addiction Family Use Cycles Feelings & Emotions Spiritual Beliefs Thinking for Change Belief Systems Conflict Resolution Harm Reduction Effects of Use Freedom Life Skills \nContinue reading
URL:https://marincityclinic.org/event/support-group-substance-use-life-issues-2-2017-01-26/
LOCATION:Marguerita C. Johnson Senior Center\, 630 Drake Avenue\, Marin City\, CA\, 94965\, United States
CATEGORIES:Free,Marin,Support group
ATTACH;FMTTYPE=image/jpeg:https://marincityclinic.org/wp-content/uploads/2016/12/MAT-12-wk-class.jpg
ORGANIZER;CN="Marin City Health & Wellness Center":MAILTO:info@marincityclinic.hyperarts.com
END:VEVENT
BEGIN:VEVENT
DTSTART;TZID=America/Los_Angeles:20170124T100000
DTEND;TZID=America/Los_Angeles:20170124T113000
DTSTAMP:20260425T175220
CREATED:20161223T051254Z
LAST-MODIFIED:20161228T070536Z
UID:886-1485252000-1485257400@marincityclinic.org
SUMMARY:Support Group: Substance Use & Life Issues
DESCRIPTION:Please join us\, whether you are a person affected by substance use or a loved one’s addiction\, you are welcome! All sessions are FREE – feel free to drop in for any one of our group discussions. Relapse Prevention Cycles of Addiction Family Use Cycles Feelings & Emotions Spiritual Beliefs Thinking for Change Belief Systems Conflict Resolution Harm Reduction Effects of Use Freedom Life Skills \nContinue reading
URL:https://marincityclinic.org/event/support-group-substance-use-life-issues-2017-01-24/
LOCATION:CSD Conference Room\, 630 Drake Avenue\, Marin City\, CA\, 94965\, United States
CATEGORIES:Free,Marin,Support group
ATTACH;FMTTYPE=image/jpeg:https://marincityclinic.org/wp-content/uploads/2016/12/MAT-12-wk-class.jpg
ORGANIZER;CN="Marin City Health & Wellness Center":MAILTO:info@marincityclinic.hyperarts.com
END:VEVENT
BEGIN:VEVENT
DTSTART;TZID=America/Los_Angeles:20170119T100000
DTEND;TZID=America/Los_Angeles:20170119T113000
DTSTAMP:20260425T175220
CREATED:20161223T051514Z
LAST-MODIFIED:20161223T051514Z
UID:927-1484820000-1484825400@marincityclinic.org
SUMMARY:Support Group: Substance Use & Life Issues
DESCRIPTION:Please join us\, whether you are a person affected by substance use or a loved one’s addiction\, you are welcome! All sessions are FREE – feel free to drop in for any one of our group discussions. Relapse Prevention Cycles of Addiction Family Use Cycles Feelings & Emotions Spiritual Beliefs Thinking for Change Belief Systems Conflict Resolution Harm Reduction Effects of Use Freedom Life Skills \nContinue reading
URL:https://marincityclinic.org/event/support-group-substance-use-life-issues-2-2017-01-19/
LOCATION:Marguerita C. Johnson Senior Center\, 630 Drake Avenue\, Marin City\, CA\, 94965\, United States
CATEGORIES:Free,Marin,Support group
ATTACH;FMTTYPE=image/jpeg:https://marincityclinic.org/wp-content/uploads/2016/12/MAT-12-wk-class.jpg
ORGANIZER;CN="Marin City Health & Wellness Center":MAILTO:info@marincityclinic.hyperarts.com
END:VEVENT
BEGIN:VEVENT
DTSTART;TZID=America/Los_Angeles:20170117T100000
DTEND;TZID=America/Los_Angeles:20170117T113000
DTSTAMP:20260425T175220
CREATED:20161223T051254Z
LAST-MODIFIED:20161228T070536Z
UID:885-1484647200-1484652600@marincityclinic.org
SUMMARY:Support Group: Substance Use & Life Issues
DESCRIPTION:Please join us\, whether you are a person affected by substance use or a loved one’s addiction\, you are welcome! All sessions are FREE – feel free to drop in for any one of our group discussions. Relapse Prevention Cycles of Addiction Family Use Cycles Feelings & Emotions Spiritual Beliefs Thinking for Change Belief Systems Conflict Resolution Harm Reduction Effects of Use Freedom Life Skills \nContinue reading
URL:https://marincityclinic.org/event/support-group-substance-use-life-issues-2017-01-17/
LOCATION:CSD Conference Room\, 630 Drake Avenue\, Marin City\, CA\, 94965\, United States
CATEGORIES:Free,Marin,Support group
ATTACH;FMTTYPE=image/jpeg:https://marincityclinic.org/wp-content/uploads/2016/12/MAT-12-wk-class.jpg
ORGANIZER;CN="Marin City Health & Wellness Center":MAILTO:info@marincityclinic.hyperarts.com
END:VEVENT
BEGIN:VEVENT
DTSTART;TZID=America/Los_Angeles:20170112T100000
DTEND;TZID=America/Los_Angeles:20170112T113000
DTSTAMP:20260425T175220
CREATED:20161223T051514Z
LAST-MODIFIED:20161223T051514Z
UID:926-1484215200-1484220600@marincityclinic.org
SUMMARY:Support Group: Substance Use & Life Issues
DESCRIPTION:Please join us\, whether you are a person affected by substance use or a loved one’s addiction\, you are welcome! All sessions are FREE – feel free to drop in for any one of our group discussions. Relapse Prevention Cycles of Addiction Family Use Cycles Feelings & Emotions Spiritual Beliefs Thinking for Change Belief Systems Conflict Resolution Harm Reduction Effects of Use Freedom Life Skills \nContinue reading
URL:https://marincityclinic.org/event/support-group-substance-use-life-issues-2-2017-01-12/
LOCATION:Marguerita C. Johnson Senior Center\, 630 Drake Avenue\, Marin City\, CA\, 94965\, United States
CATEGORIES:Free,Marin,Support group
ATTACH;FMTTYPE=image/jpeg:https://marincityclinic.org/wp-content/uploads/2016/12/MAT-12-wk-class.jpg
ORGANIZER;CN="Marin City Health & Wellness Center":MAILTO:info@marincityclinic.hyperarts.com
END:VEVENT
BEGIN:VEVENT
DTSTART;TZID=America/Los_Angeles:20170111T180000
DTEND;TZID=America/Los_Angeles:20170111T190000
DTSTAMP:20260425T175220
CREATED:20161223T054305Z
LAST-MODIFIED:20170105T235516Z
UID:941-1484157600-1484161200@marincityclinic.org
SUMMARY:La Leche League meetings
DESCRIPTION:Join our FREE monthly support group for moms who want to breastfeed! \nContinue reading
URL:https://marincityclinic.org/event/la-leche-league-meetings/
LOCATION:Marin Family Birth Center\, 880 Las Gallinas #1\, San Rafael\, CA\, 94903\, United States
CATEGORIES:Birth center,Marin,Support group
ORGANIZER;CN="Marin Family Birth Center":MAILTO:info@marinbirth.org
END:VEVENT
BEGIN:VEVENT
DTSTART;TZID=America/Los_Angeles:20170110T100000
DTEND;TZID=America/Los_Angeles:20170110T113000
DTSTAMP:20260425T175220
CREATED:20161223T051254Z
LAST-MODIFIED:20161228T070534Z
UID:884-1484042400-1484047800@marincityclinic.org
SUMMARY:Support Group: Substance Use & Life Issues
DESCRIPTION:Please join us\, whether you are a person affected by substance use or a loved one’s addiction\, you are welcome! All sessions are FREE – feel free to drop in for any one of our group discussions. Relapse Prevention Cycles of Addiction Family Use Cycles Feelings & Emotions Spiritual Beliefs Thinking for Change Belief Systems Conflict Resolution Harm Reduction Effects of Use Freedom Life Skills \nContinue reading
URL:https://marincityclinic.org/event/support-group-substance-use-life-issues-2017-01-10/
LOCATION:CSD Conference Room\, 630 Drake Avenue\, Marin City\, CA\, 94965\, United States
CATEGORIES:Free,Marin,Support group
ATTACH;FMTTYPE=image/jpeg:https://marincityclinic.org/wp-content/uploads/2016/12/MAT-12-wk-class.jpg
ORGANIZER;CN="Marin City Health & Wellness Center":MAILTO:info@marincityclinic.hyperarts.com
END:VEVENT
BEGIN:VEVENT
DTSTART;TZID=America/Los_Angeles:20170105T100000
DTEND;TZID=America/Los_Angeles:20170105T113000
DTSTAMP:20260425T175220
CREATED:20161223T051514Z
LAST-MODIFIED:20161223T051514Z
UID:925-1483610400-1483615800@marincityclinic.org
SUMMARY:Support Group: Substance Use & Life Issues
DESCRIPTION:Please join us\, whether you are a person affected by substance use or a loved one’s addiction\, you are welcome! All sessions are FREE – feel free to drop in for any one of our group discussions. Relapse Prevention Cycles of Addiction Family Use Cycles Feelings & Emotions Spiritual Beliefs Thinking for Change Belief Systems Conflict Resolution Harm Reduction Effects of Use Freedom Life Skills \nContinue reading
URL:https://marincityclinic.org/event/support-group-substance-use-life-issues-2-2017-01-05/
LOCATION:Marguerita C. Johnson Senior Center\, 630 Drake Avenue\, Marin City\, CA\, 94965\, United States
CATEGORIES:Free,Marin,Support group
ATTACH;FMTTYPE=image/jpeg:https://marincityclinic.org/wp-content/uploads/2016/12/MAT-12-wk-class.jpg
ORGANIZER;CN="Marin City Health & Wellness Center":MAILTO:info@marincityclinic.hyperarts.com
END:VEVENT
BEGIN:VEVENT
DTSTART;TZID=America/Los_Angeles:20170103T100000
DTEND;TZID=America/Los_Angeles:20170103T113000
DTSTAMP:20260425T175220
CREATED:20161223T051254Z
LAST-MODIFIED:20161228T070534Z
UID:883-1483437600-1483443000@marincityclinic.org
SUMMARY:Support Group: Substance Use & Life Issues
DESCRIPTION:Please join us\, whether you are a person affected by substance use or a loved one’s addiction\, you are welcome! All sessions are FREE – feel free to drop in for any one of our group discussions. Relapse Prevention Cycles of Addiction Family Use Cycles Feelings & Emotions Spiritual Beliefs Thinking for Change Belief Systems Conflict Resolution Harm Reduction Effects of Use Freedom Life Skills \nContinue reading
URL:https://marincityclinic.org/event/support-group-substance-use-life-issues-2017-01-03/
LOCATION:CSD Conference Room\, 630 Drake Avenue\, Marin City\, CA\, 94965\, United States
CATEGORIES:Free,Marin,Support group
ATTACH;FMTTYPE=image/jpeg:https://marincityclinic.org/wp-content/uploads/2016/12/MAT-12-wk-class.jpg
ORGANIZER;CN="Marin City Health & Wellness Center":MAILTO:info@marincityclinic.hyperarts.com
END:VEVENT
BEGIN:VEVENT
DTSTART;TZID=America/Los_Angeles:20161103T100000
DTEND;TZID=America/Los_Angeles:20161103T113000
DTSTAMP:20260425T175220
CREATED:20161223T051514Z
LAST-MODIFIED:20161223T051747Z
UID:888-1478167200-1478172600@marincityclinic.org
SUMMARY:Support Group: Substance Use & Life Issues
DESCRIPTION:Please join us\, whether you are a person affected by substance use or a loved one’s addiction\, you are welcome! All sessions are FREE – feel free to drop in for any one of our group discussions. Relapse Prevention Cycles of Addiction Family Use Cycles Feelings & Emotions Spiritual Beliefs Thinking for Change Belief Systems Conflict Resolution Harm Reduction Effects of Use Freedom Life Skills \nContinue reading
URL:https://marincityclinic.org/event/support-group-substance-use-life-issues-2/
LOCATION:Marguerita C. Johnson Senior Center\, 630 Drake Avenue\, Marin City\, CA\, 94965\, United States
CATEGORIES:Free,Marin,Support group
ATTACH;FMTTYPE=image/jpeg:https://marincityclinic.org/wp-content/uploads/2016/12/MAT-12-wk-class.jpg
ORGANIZER;CN="Marin City Health & Wellness Center":MAILTO:info@marincityclinic.hyperarts.com
END:VEVENT
BEGIN:VEVENT
DTSTART;TZID=America/Los_Angeles:20161101T100000
DTEND;TZID=America/Los_Angeles:20161101T113000
DTSTAMP:20260425T175220
CREATED:20161223T051254Z
LAST-MODIFIED:20161228T070533Z
UID:871-1477994400-1477999800@marincityclinic.org
SUMMARY:Support Group: Substance Use & Life Issues
DESCRIPTION:Please join us\, whether you are a person affected by substance use or a loved one’s addiction\, you are welcome! All sessions are FREE – feel free to drop in for any one of our group discussions. Relapse Prevention Cycles of Addiction Family Use Cycles Feelings & Emotions Spiritual Beliefs Thinking for Change Belief Systems Conflict Resolution Harm Reduction Effects of Use Freedom Life Skills \nContinue reading
URL:https://marincityclinic.org/event/support-group-substance-use-life-issues/
LOCATION:CSD Conference Room\, 630 Drake Avenue\, Marin City\, CA\, 94965\, United States
CATEGORIES:Free,Marin,Support group
ATTACH;FMTTYPE=image/jpeg:https://marincityclinic.org/wp-content/uploads/2016/12/MAT-12-wk-class.jpg
ORGANIZER;CN="Marin City Health & Wellness Center":MAILTO:info@marincityclinic.hyperarts.com
END:VEVENT
END:VCALENDAR