BEGIN:VCALENDAR
VERSION:2.0
PRODID:-//Marin City Clinic - ECPv6.6.4.2//NONSGML v1.0//EN
CALSCALE:GREGORIAN
METHOD:PUBLISH
X-WR-CALNAME:Marin City Clinic
X-ORIGINAL-URL:https://marincityclinic.org
X-WR-CALDESC:Events for Marin City Clinic
REFRESH-INTERVAL;VALUE=DURATION:PT1H
X-Robots-Tag:noindex
X-PUBLISHED-TTL:PT1H
BEGIN:VTIMEZONE
TZID:America/Los_Angeles
BEGIN:DAYLIGHT
TZOFFSETFROM:-0800
TZOFFSETTO:-0700
TZNAME:PDT
DTSTART:20180311T100000
END:DAYLIGHT
BEGIN:STANDARD
TZOFFSETFROM:-0700
TZOFFSETTO:-0800
TZNAME:PST
DTSTART:20181104T090000
END:STANDARD
END:VTIMEZONE
BEGIN:VEVENT
DTSTART;TZID=America/Los_Angeles:20180403T090000
DTEND;TZID=America/Los_Angeles:20180403T110000
DTSTAMP:20260422T234730
CREATED:20180402T194324Z
LAST-MODIFIED:20180402T194533Z
UID:7090-1522746000-1522753200@marincityclinic.org
SUMMARY:Art Class
DESCRIPTION:Marin City Active Adult Activities Join our creative active older adults for a morning of painting with Daniel Panko. All supplies are provided and all levels are welcome. \nContinue reading
URL:https://marincityclinic.org/event/art-class/
LOCATION:Marguerita C. Johnson Senior Center\, 630 Drake Avenue\, Marin City\, CA\, 94965\, United States
CATEGORIES:Free,Marin
ORGANIZER;CN="Marin City Health & Wellness Center":MAILTO:info@marincityclinic.hyperarts.com
END:VEVENT
END:VCALENDAR