BEGIN:VCALENDAR
VERSION:2.0
PRODID:-//Marin City Clinic - ECPv6.6.4.2//NONSGML v1.0//EN
CALSCALE:GREGORIAN
METHOD:PUBLISH
X-ORIGINAL-URL:https://marincityclinic.org
X-WR-CALDESC:Events for Marin City Clinic
REFRESH-INTERVAL;VALUE=DURATION:PT1H
X-Robots-Tag:noindex
X-PUBLISHED-TTL:PT1H
BEGIN:VTIMEZONE
TZID:America/Los_Angeles
BEGIN:DAYLIGHT
TZOFFSETFROM:-0800
TZOFFSETTO:-0700
TZNAME:PDT
DTSTART:20190310T100000
END:DAYLIGHT
BEGIN:STANDARD
TZOFFSETFROM:-0700
TZOFFSETTO:-0800
TZNAME:PST
DTSTART:20191103T090000
END:STANDARD
END:VTIMEZONE
BEGIN:VEVENT
DTSTART;TZID=America/Los_Angeles:20191107T130000
DTEND;TZID=America/Los_Angeles:20191107T143000
DTSTAMP:20260422T205912
CREATED:20180906T164955Z
LAST-MODIFIED:20180906T164955Z
UID:10016-1573131600-1573137000@marincityclinic.org
SUMMARY:Easy Hike Thursdays
DESCRIPTION:Join us for an easy hike in the beautiful natural area surrounding Marin City. This walk is free and open to all. Meet our Health Educator\, Michaela Moss\, at the main clinic entrance at 1:00pm. For more information\, email Michaela or call us at (415) 339-8813. \nContinue reading
URL:https://marincityclinic.org/event/easy-hike-thursdays-2019-11-07/
LOCATION:Marin City Health & Wellness Center\, 630 Drake Avenue\, Marin City\, CA\, 94965\, United States
CATEGORIES:Exercise,Free,Marin
ATTACH;FMTTYPE=image/png:https://marincityclinic.org/wp-content/uploads/2018/09/Hikes.png
ORGANIZER;CN="Marin City Health & Wellness Center":MAILTO:info@marincityclinic.hyperarts.com
END:VEVENT
BEGIN:VEVENT
DTSTART;TZID=America/Los_Angeles:20191114T130000
DTEND;TZID=America/Los_Angeles:20191114T143000
DTSTAMP:20260422T205912
CREATED:20180906T164955Z
LAST-MODIFIED:20180906T164955Z
UID:10017-1573736400-1573741800@marincityclinic.org
SUMMARY:Easy Hike Thursdays
DESCRIPTION:Join us for an easy hike in the beautiful natural area surrounding Marin City. This walk is free and open to all. Meet our Health Educator\, Michaela Moss\, at the main clinic entrance at 1:00pm. For more information\, email Michaela or call us at (415) 339-8813. \nContinue reading
URL:https://marincityclinic.org/event/easy-hike-thursdays-2019-11-14/
LOCATION:Marin City Health & Wellness Center\, 630 Drake Avenue\, Marin City\, CA\, 94965\, United States
CATEGORIES:Exercise,Free,Marin
ATTACH;FMTTYPE=image/png:https://marincityclinic.org/wp-content/uploads/2018/09/Hikes.png
ORGANIZER;CN="Marin City Health & Wellness Center":MAILTO:info@marincityclinic.hyperarts.com
END:VEVENT
BEGIN:VEVENT
DTSTART;TZID=America/Los_Angeles:20191119T120000
DTEND;TZID=America/Los_Angeles:20191119T160000
DTSTAMP:20260422T205912
CREATED:20191020T141005Z
LAST-MODIFIED:20191112T180255Z
UID:11160-1574164800-1574179200@marincityclinic.org
SUMMARY:Marin City Senior Health Fair Nov 19
DESCRIPTION:Learn about Resources for Healthy Aging at 55+ Share a meal and learn about resources for healthy aging\, followed by a celebration of the new Senior Outdoor Fitness Center and the Food Pharmacy. Event Schedule 12:00 noon – Music and Welcome 12:30 pm – Panel discussion on: Active Adult Healthcare Mobility and Balance Financial/Elder Abuse Emergency Preparedness Companionship Programs Trust and Estate Law 1:30 pm – Lunch 2:00 pm – Outdoor Fitness Zone grand opening 3:00 pm – Food Pharmacy Event Partners We thank these organizations for joining this event and sharing resources: 2020 Census A Matter of Balance Community Action Marin Covia Healthy Eating Active Living/CalFresh Lawyers in the Library Marin Access Marin City Community Services District Marin City Health & Wellness Center Marin… \nContinue reading
URL:https://marincityclinic.org/event/marin-city-senior-health-fair-nov-19/
LOCATION:Marguerita C. Johnson Senior Center\, 630 Drake Avenue\, Marin City\, CA\, 94965\, United States
CATEGORIES:Free,Marin
ATTACH;FMTTYPE=image/png:https://marincityclinic.org/wp-content/uploads/2019/11/Copy-of-Marin-City-Elders-Nov-19_image.png
ORGANIZER;CN="Marin City Health & Wellness Center":MAILTO:info@marincityclinic.hyperarts.com
END:VEVENT
BEGIN:VEVENT
DTSTART;TZID=America/Los_Angeles:20191121T130000
DTEND;TZID=America/Los_Angeles:20191121T143000
DTSTAMP:20260422T205912
CREATED:20180906T164955Z
LAST-MODIFIED:20180906T164955Z
UID:10018-1574341200-1574346600@marincityclinic.org
SUMMARY:Easy Hike Thursdays
DESCRIPTION:Join us for an easy hike in the beautiful natural area surrounding Marin City. This walk is free and open to all. Meet our Health Educator\, Michaela Moss\, at the main clinic entrance at 1:00pm. For more information\, email Michaela or call us at (415) 339-8813. \nContinue reading
URL:https://marincityclinic.org/event/easy-hike-thursdays-2019-11-21/
LOCATION:Marin City Health & Wellness Center\, 630 Drake Avenue\, Marin City\, CA\, 94965\, United States
CATEGORIES:Exercise,Free,Marin
ATTACH;FMTTYPE=image/png:https://marincityclinic.org/wp-content/uploads/2018/09/Hikes.png
ORGANIZER;CN="Marin City Health & Wellness Center":MAILTO:info@marincityclinic.hyperarts.com
END:VEVENT
BEGIN:VEVENT
DTSTART;TZID=America/Los_Angeles:20191128T130000
DTEND;TZID=America/Los_Angeles:20191128T143000
DTSTAMP:20260422T205912
CREATED:20180906T164955Z
LAST-MODIFIED:20180906T164955Z
UID:10019-1574946000-1574951400@marincityclinic.org
SUMMARY:Easy Hike Thursdays
DESCRIPTION:Join us for an easy hike in the beautiful natural area surrounding Marin City. This walk is free and open to all. Meet our Health Educator\, Michaela Moss\, at the main clinic entrance at 1:00pm. For more information\, email Michaela or call us at (415) 339-8813. \nContinue reading
URL:https://marincityclinic.org/event/easy-hike-thursdays-2019-11-28/
LOCATION:Marin City Health & Wellness Center\, 630 Drake Avenue\, Marin City\, CA\, 94965\, United States
CATEGORIES:Exercise,Free,Marin
ATTACH;FMTTYPE=image/png:https://marincityclinic.org/wp-content/uploads/2018/09/Hikes.png
ORGANIZER;CN="Marin City Health & Wellness Center":MAILTO:info@marincityclinic.hyperarts.com
END:VEVENT
END:VCALENDAR